BEGIN:VCALENDAR
VERSION:2.0
PRODID:-//FÄCHER - ECPv4.8.2//NONSGML v1.0//EN
CALSCALE:GREGORIAN
METHOD:PUBLISH
X-WR-CALNAME:FÄCHER
X-ORIGINAL-URL:https://www.faecher.at
X-WR-CALDESC:Veranstaltungen im FÄCHER
BEGIN:VEVENT
DTSTART;TZID=Europe/Vienna:20240410T190000
DTEND;TZID=Europe/Vienna:20240410T235900
DTSTAMP:20260421T143638
CREATED:20240407T144224Z
LAST-MODIFIED:20240407T144927Z
UID:2988-1712775600-1712793540@www.faecher.at
SUMMARY:40 Jahre Fächer
DESCRIPTION:
URL:https://www.faecher.at/event/40-jahre-faecher/
LOCATION:Galerie im Park\, Liniengasse 2a\, 1060 Wien\, Wien\, 1060\, Österreich
CATEGORIES:AUSSTELLUNGEN
END:VEVENT
END:VCALENDAR