BEGIN:VCALENDAR
VERSION:2.0
PRODID:-//FÄCHER - ECPv4.8.2//NONSGML v1.0//EN
CALSCALE:GREGORIAN
METHOD:PUBLISH
X-WR-CALNAME:FÄCHER
X-ORIGINAL-URL:https://www.faecher.at
X-WR-CALDESC:Veranstaltungen im FÄCHER
BEGIN:VEVENT
DTSTART;TZID=Europe/Vienna:20191003T190000
DTEND;TZID=Europe/Vienna:20191003T233000
DTSTAMP:20260421T144550
CREATED:20190927T093308Z
LAST-MODIFIED:20190927T095212Z
UID:2875-1570129200-1570145400@www.faecher.at
SUMMARY:AUSSTELLUNG 2019 der Künstlergruppe Fächer
DESCRIPTION:\n\n \n\nLiebe Kunstfreundinnen und Kunstfreunde\,\n\nich möchte Sie alle ganz herzlich zur Jahresausstellung 2019 meiner Künstlergruppe Fächer einladen.\n\nDiesmal in die Villa Wertheimstein.\nDie Vernissage findet am 3.Oktober um 19 Uhr statt. (Wien 1190\, Döblinger Hauptstraße 96)\n\nEröffnet wird von Gerhard Menhard und am Klavier werden wir von Franz Luttenberger unterhalten. \n\nWie schon oft können Sie Weine der Fam. Holzreiter verkosten.\n\nDie Ausstellung wird am 4. + 5. + 6. Oktober von 14 bis 17 Uhr geöffnet sein.\n\nWir…..\n\nBRIGITTE SPANBLÖCHEL-GLASS\nERNESTO\nEVELYN MIKSCH\nGERTI MAUCH\nLOMANI\nMARINA SEILLER-NEDKOFF\nROSWITHA WAGNER\nSILVIA VARENDORFF-NELL\nAls Gast: ALEXANDER FLOTOW\n\n…..freuen uns über Ihren Besuch.\n\n \n\nMit den besten Wünschen für einen schönen Herbst und freundlichen Grüßen\,\nErnesto
URL:https://www.faecher.at/event/ausstellung-2019-der-kuenstlergruppe-faecher/
LOCATION:Villa Wertheimstein\, Döblinger Hauptstrasse 96\, 1190 Wien\, Wien\, 1190\, Österreich
CATEGORIES:AUSSTELLUNGEN
END:VEVENT
END:VCALENDAR