BEGIN:VCALENDAR
VERSION:2.0
PRODID:-//FÄCHER - ECPv4.8.2//NONSGML v1.0//EN
CALSCALE:GREGORIAN
METHOD:PUBLISH
X-WR-CALNAME:FÄCHER
X-ORIGINAL-URL:https://www.faecher.at
X-WR-CALDESC:Veranstaltungen im FÄCHER
BEGIN:VEVENT
DTSTART;TZID=Europe/Vienna:20190404T190000
DTEND;TZID=Europe/Vienna:20190404T190000
DTSTAMP:20260421T144218
CREATED:20190325T213511Z
LAST-MODIFIED:20190325T213623Z
UID:2859-1554404400-1554404400@www.faecher.at
SUMMARY:VERNISSAGE DER KUNST - WERKE
DESCRIPTION:  
URL:https://www.faecher.at/event/vernissage-der-kunst-werke/
LOCATION:Kunststation Mödling\, Untere Bachgasse 5\, Mödling\, Wien\, 2340\, Österreich
CATEGORIES:AUSSTELLUNGEN
END:VEVENT
END:VCALENDAR